BEGIN:VCALENDAR
VERSION:2.0
PRODID:-//Enterprise Academy of Martial Arts - ECPv6.1.3//NONSGML v1.0//EN
CALSCALE:GREGORIAN
METHOD:PUBLISH
X-ORIGINAL-URL:https://skillzhollister.com
X-WR-CALDESC:Events for Enterprise Academy of Martial Arts
REFRESH-INTERVAL;VALUE=DURATION:PT1H
X-Robots-Tag:noindex
X-PUBLISHED-TTL:PT1H
BEGIN:VTIMEZONE
TZID:America/Los_Angeles
BEGIN:DAYLIGHT
TZOFFSETFROM:-0800
TZOFFSETTO:-0700
TZNAME:PDT
DTSTART:20230312T100000
END:DAYLIGHT
BEGIN:STANDARD
TZOFFSETFROM:-0700
TZOFFSETTO:-0800
TZNAME:PST
DTSTART:20231105T090000
END:STANDARD
END:VTIMEZONE
BEGIN:VEVENT
DTSTART;TZID=America/Los_Angeles:20230501T080000
DTEND;TZID=America/Los_Angeles:20230505T200000
DTSTAMP:20260420T201617
CREATED:20230501T173021Z
LAST-MODIFIED:20230502T213707Z
UID:1741-1682928000-1683316800@skillzhollister.com
SUMMARY:Star Wars Day Special
DESCRIPTION:
URL:https://skillzhollister.com/event/star-wars-day-special/
CATEGORIES:Specials
ATTACH;FMTTYPE=image/png:https://skillzhollister.com/wp-content/uploads/2023/05/Star-Wars-Day-Special-Feature-.png
END:VEVENT
END:VCALENDAR