BEGIN:VCALENDAR
VERSION:2.0
PRODID:-//Enterprise Academy of Martial Arts - ECPv6.1.3//NONSGML v1.0//EN
CALSCALE:GREGORIAN
METHOD:PUBLISH
X-ORIGINAL-URL:https://skillzhollister.com
X-WR-CALDESC:Events for Enterprise Academy of Martial Arts
REFRESH-INTERVAL;VALUE=DURATION:PT1H
X-Robots-Tag:noindex
X-PUBLISHED-TTL:PT1H
BEGIN:VTIMEZONE
TZID:America/Los_Angeles
BEGIN:DAYLIGHT
TZOFFSETFROM:-0800
TZOFFSETTO:-0700
TZNAME:PDT
DTSTART:20230312T100000
END:DAYLIGHT
BEGIN:STANDARD
TZOFFSETFROM:-0700
TZOFFSETTO:-0800
TZNAME:PST
DTSTART:20231105T090000
END:STANDARD
END:VTIMEZONE
BEGIN:VEVENT
DTSTART;TZID=America/Los_Angeles:20230510T080000
DTEND;TZID=America/Los_Angeles:20230521T200000
DTSTAMP:20260420T201740
CREATED:20230510T170741Z
LAST-MODIFIED:20230511T172309Z
UID:1747-1683705600-1684699200@skillzhollister.com
SUMMARY:Super Spring Special
DESCRIPTION:Hey\, Hollister parents! Are you looking for something exciting to get your child involved and that involves not only a fun physical activity\, but at the same time the best parts in child development? \nOur SUPER SPRING SPECIAL is great way to get started in Martial Arts for your child (Ages 5 and above). Your enrollment special is: \n First 4 weeks of lessons\n Free Academy T-shirt and shorts\n Boxing gloves\n Only $99 \nClick here to book your FREE Introductory lesson! >>> https://bit.ly/434ItLK \n831-638-9384 \nOffer good through May 21st.
URL:https://skillzhollister.com/event/super-spring-special/
CATEGORIES:Specials
ATTACH;FMTTYPE=image/png:https://skillzhollister.com/wp-content/uploads/2023/05/Super-Spring-Special-Feature.png
END:VEVENT
END:VCALENDAR